BEGIN:VCALENDAR
PRODID:-//AT Content Types//AT Event//EN
VERSION:1.0
BEGIN:VEVENT
DTSTART:20120130T080000Z
DTEND:20120330T160000Z
DCREATED:20200319T142327Z
UID:ATEvent-0fc91397eb8a4c2ca98654a9a70e0677
SEQUENCE:0
LAST-MODIFIED:20241021T082749Z
SUMMARY:Ausstellung // Künstlereditionen
DESCRIPTION:Im Jahre 2010 übergab S.K.H. Herzog Franz von Bayern der 
 Bibliothek des Zentralinstituts zusätzlich zu der 2009 erfolgten Sche
 nkung seiner umfangreichen Bibliothek eine wertvolle Sammlung von vorw
 iegend aus dem Münchner Kontext stammenden Künstlerbüchern bzw. spe
 ziellen Editionen von Künstlerpublikationen. Die Editionen stehen üb
 erwiegend im Zusammenhang mit der editorischen Produktion der Münchne
 r Galerie Fred Jahn.
LOCATION:Zentralinstitut für Kunstgeschichte\, Katharina-von-Bora-Str. 10\, 80333 München\, Nördlicher Lichthof\, I. OG
PRIORITY:3
TRANSP:0
END:VEVENT
END:VCALENDAR
