BEGIN:VCALENDAR
PRODID:-//AT Content Types//AT Event//EN
VERSION:1.0
BEGIN:VEVENT
DTSTART:20130429T161500Z
DTEND:20130429T171500Z
DCREATED:20130403T102543Z
UID:ATEvent-aeec5e094bf34489930f230661d77559
SEQUENCE:0
LAST-MODIFIED:20190619T154412Z
SUMMARY:Vortrag Valentin Groebner
DESCRIPTION:Vortrag Valentin Groebner\, anlässlich der Eröffnung der
  Ausstellung im nördlichen Lichthof: Ich schon wieder. Welches Gesich
 t hat die Renaissance?
LOCATION:Zentralinstitut für Kunstgeschichte\, Griechensaal 204-206\, II. OG\, Katharina-von-Bora-Straße 10\, 80333 München
PRIORITY:3
TRANSP:0
END:VEVENT
END:VCALENDAR
