BEGIN:VCALENDAR
PRODID:-//AT Content Types//AT Event//EN
VERSION:2.0
METHOD:PUBLISH
BEGIN:VEVENT
DTSTAMP:20260419T164139Z
CREATED:20130403T102543Z
UID:ATEvent-523ce133d5554e2994eada475b8abcfc
LAST-MODIFIED:20241021T080056Z
SUMMARY:Festvortrag Wolfgang-Ratjen-Preis 2013 // Nicholas Turner: Some fresh thoughts on a recent proposal for El Greco as a draughtsman
DTSTART:20130515T161500Z
DTEND:20130515T181500Z
DESCRIPTION:Aus Anlass der Vergabe des Wolfgang-Ratjen-Preises an Dr. 
 Christine Demele\, Erlangen\, für ihre Dissertation "Dürers Nackthei
 t. Das Weimarer Selbstbildnis" und Hendrikje Hüneke\, M.A.\, Kiel\, S
 onderpreis für ihre Magisterarbeit "UNAULUTU. Ein Künstlerbuch von F
 rieder Heinze und Olaf Wegewitz".
LOCATION:Zentralinstitut für Kunstgeschichte\, Vortragsraum 242\, II. OG\, Katharina-von-Bora-Straße 10\, 80333 München
CATEGORIES:Festvortrag WRP, 2013
CLASS:PUBLIC
END:VEVENT
END:VCALENDAR
