BEGIN:VCALENDAR
PRODID:-//AT Content Types//AT Event//EN
VERSION:2.0
METHOD:PUBLISH
BEGIN:VEVENT
DTSTAMP:20260423T142115Z
CREATED:20130403T102544Z
UID:ATEvent-d3968dfa0fd04ec69855b9a64b1e054e
LAST-MODIFIED:20241125T133407Z
SUMMARY:Verleihung Theodor-Fischer-Preis
DTSTART:20130703T161500Z
DTEND:20130703T163000Z
DESCRIPTION:Verleihung des Theodor-Fischer-Preises 2013
LOCATION:Zentralinstitut für Kunstgeschichte\, Vortragsraum 242\, II. OG\, Katharina-von-Bora-Straße 10\, 80333 München
CATEGORIES:2013
CLASS:PUBLIC
END:VEVENT
END:VCALENDAR
