BEGIN:VCALENDAR
PRODID:-//AT Content Types//AT Event//EN
VERSION:2.0
METHOD:PUBLISH
BEGIN:VEVENT
DTSTAMP:20260420T130709Z
CREATED:20131204T102056Z
UID:ATEvent-4e62e97ea4594e49b63e91848fe30e2c
LAST-MODIFIED:20190619T154225Z
SUMMARY:Beitrag Arthur Rüegg
DTSTART:20130313T133000Z
DTEND:20130313T140000Z
DESCRIPTION:Tagungsbeitrag Arthur Rüegg: Das Werkverzeichnis der Möb
 el Le Corbusiers – vom Hobby zum Ernstfall
LOCATION:Zentralinstitut für Kunstgeschichte\, Vortragssaal Raum 242\, II. OG\, Katharina-von-Bora-Straße 10\, 80333 München
CATEGORIES:2013
CLASS:PUBLIC
END:VEVENT
END:VCALENDAR
