BEGIN:VCALENDAR
PRODID:-//AT Content Types//AT Event//EN
VERSION:1.0
BEGIN:VEVENT
DTSTART:20130313T100000Z
DTEND:20130313T191500Z
DCREATED:20131204T095140Z
UID:ATEvent-f69efbb1cb674d4c842c7ce63d3b046a
SEQUENCE:0
LAST-MODIFIED:20251103T120438Z
SUMMARY:1. Forschungsgespräch "Kommentiertes Werkverzeichnis der Möbel und Möbelentwürfe Ludwig Mies van der Rohes"
DESCRIPTION:1. Forschungsgespräch "Kommentiertes Werkverzeichnis der 
 Möbel und Möbelentwürfe Ludwig Mies van der Rohes"
LOCATION:Zentralinstitut für Kunstgeschichte\, Vortragssaal Raum 242\, II. OG\, Katharina-von-Bora-Straße 10\, 80333 München
PRIORITY:3
TRANSP:0
END:VEVENT
END:VCALENDAR
