BEGIN:VCALENDAR
PRODID:-//AT Content Types//AT Event//EN
VERSION:2.0
METHOD:PUBLISH
BEGIN:VEVENT
DTSTAMP:20260422T061023Z
CREATED:20131025T090435Z
UID:ATEvent-5ab375628ef246a483c75a1d5c3809e3
LAST-MODIFIED:20160323T112619Z
SUMMARY:Beitrag Markus Eisen
DTSTART:20131115T140000Z
DTEND:20131115T144000Z
DESCRIPTION:Tagungsbeitrag Markus Eisen: Stahlrohrmöbel in der Karika
 tur
LOCATION:Zentralinstitut für Kunstgeschichte\, Vortragssaal Raum 242\, II. OG\, Katharina-von-Bora-Straße 10\, 80333 München
CATEGORIES:2013
CLASS:PUBLIC
END:VEVENT
END:VCALENDAR
