BEGIN:VCALENDAR
PRODID:-//AT Content Types//AT Event//EN
VERSION:2.0
METHOD:PUBLISH
BEGIN:VEVENT
DTSTAMP:20260422T235652Z
CREATED:20131030T183046Z
UID:ATEvent-730cdfe6bae0424eb3ea0838a9b5453e
LAST-MODIFIED:20190619T154926Z
SUMMARY:Workshop Hanna Holtz
DTSTART:20131119T160000Z
DTEND:20131119T173000Z
DESCRIPTION:Hanna Holtz: Exposition Surréaliste d’Objets\, Paris (1
 936)
LOCATION:Zentralinstitut für Kunstgeschichte\, Photothek\, I. OG\, Raum 137\, Katharina-von-Bora-Straße 10\, 80333 München
CATEGORIES:2013
CLASS:PUBLIC
END:VEVENT
END:VCALENDAR
