BEGIN:VCALENDAR
PRODID:-//AT Content Types//AT Event//EN
VERSION:2.0
METHOD:PUBLISH
BEGIN:VEVENT
DTSTAMP:20260424T012522Z
CREATED:20130724T111552Z
UID:ATEvent-7a25cc3b79f44af3b74251ed364aad50
LAST-MODIFIED:20241125T133517Z
SUMMARY:Kolloquium: Provenienzforschung IV
DTSTART:20131030T150000Z
DTEND:20131030T190000Z
DESCRIPTION:Kolloquium Provenienz- und Sammlungsforschung (IV)
LOCATION:Zentralinstitut für Kunstgeschichte\, Vortragssaal Raum 242\, II. OG\, Katharina-von-Bora-Straße 10\, 80333 München
CATEGORIES:2013, Provenienzforschung, Kunst im historisch-politischen Raum und globalen Kontext
CLASS:PUBLIC
END:VEVENT
END:VCALENDAR
