BEGIN:VCALENDAR
PRODID:-//AT Content Types//AT Event//EN
VERSION:1.0
BEGIN:VEVENT
DTSTART:20131023T161500Z
DTEND:20131023T180000Z
DCREATED:20130808T095818Z
UID:ATEvent-05037acea9424267b592d0da7c2ddf93
SEQUENCE:0
LAST-MODIFIED:20190619T154816Z
SUMMARY:Kolloquium zum Münchner Hofgarten
LOCATION:Zentralinstitut für Kunstgeschichte\, Vortragssaal Raum 242\, II. OG\, Katharina-von-Bora-Straße 10\, 80333 München
PRIORITY:3
TRANSP:0
END:VEVENT
END:VCALENDAR
