BEGIN:VCALENDAR
PRODID:-//AT Content Types//AT Event//EN
VERSION:2.0
METHOD:PUBLISH
BEGIN:VEVENT
DTSTAMP:20260422T215146Z
CREATED:20130724T112205Z
UID:ATEvent-1cd688f9b6734a29856e18dcaf1fecfb
LAST-MODIFIED:20160401T155902Z
SUMMARY:Vortrag Brigitte Volk-Knüttel
DTSTART:20131023T161500Z
DTEND:20131023T171500Z
DESCRIPTION:Brigitte Volk-Knüttel: Der Münchner Hofgarten und die Go
 ldschmiede Tobias Volckmer Vater und Sohn
LOCATION:Zentralinstitut für Kunstgeschichte\, Vortragssaal Raum 242\, II. OG\, Katharina-von-Bora-Straße 10\, 80333 München
CATEGORIES:2013
CLASS:PUBLIC
END:VEVENT
END:VCALENDAR
