BEGIN:VCALENDAR
PRODID:-//AT Content Types//AT Event//EN
VERSION:1.0
BEGIN:VEVENT
DTSTART:20130712T150000Z
DTEND:20130712T180000Z
DCREATED:20130701T162135Z
UID:ATEvent-b68c0c0b2c7843d4b8fefd77d63469a0
SEQUENCE:0
LAST-MODIFIED:20130715T080649Z
SUMMARY:Roundtable Positions of Art History
DESCRIPTION:Positions of Art History: The Ubiquity of Architecture: Gl
 obalization as a Challenge for Architectural History
LOCATION:Zentralinstitut für Kunstgeschichte\, Lichthof Nord\, EG\, Katharina-von-Bora-Straße 10\, 80333 München
PRIORITY:3
TRANSP:0
END:VEVENT
END:VCALENDAR
