BEGIN:VCALENDAR
PRODID:-//AT Content Types//AT Event//EN
VERSION:1.0
BEGIN:VEVENT
DTSTART:20131206T171500Z
DTEND:20131206T183000Z
DCREATED:20130724T080833Z
UID:ATEvent-b6b76d35745a4f34b367e1479821fd42
SEQUENCE:0
LAST-MODIFIED:20260209T124354Z
SUMMARY:Vortrag Anne Moeglin-Delcroix
DESCRIPTION:Anne Moeglin-Delcroix: Ambulo\, ergo sum: Nature as Experi
 ence in Artists' Books
LOCATION:Zentralinstitut für Kunstgeschichte\, Vortragssaal Raum 242\, II. OG\, Katharina-von-Bora-Straße 10\, 80333 München
PRIORITY:3
TRANSP:0
END:VEVENT
END:VCALENDAR
