BEGIN:VCALENDAR
PRODID:-//AT Content Types//AT Event//EN
VERSION:2.0
METHOD:PUBLISH
BEGIN:VEVENT
DTSTAMP:20260419T124414Z
CREATED:20131204T093530Z
UID:ATEvent-2eb04a54f9844651b8e0f335dc7e706b
LAST-MODIFIED:20190619T154122Z
SUMMARY:Vortrag Larry J. Schaaf
DTSTART:20130220T171500Z
DTEND:20130220T191500Z
DESCRIPTION:Vortrag Larry J. Schaaf: “I have captured a shadow!” 
  William Henry Fox Talbot & the Conception of Photography
LOCATION:Zentralinstitut für Kunstgeschichte\, Vortragsraum 242\, II. OG\, Katharina-von-Bora-Straße 10\, 80333 München
CATEGORIES:2013
CLASS:PUBLIC
END:VEVENT
END:VCALENDAR
