BEGIN:VCALENDAR
PRODID:-//AT Content Types//AT Event//EN
VERSION:1.0
BEGIN:VEVENT
DTSTART:20130116T171500Z
DTEND:20130116T191500Z
DCREATED:20131204T091008Z
UID:ATEvent-f1d3322f4fea42ffa2606f14c8287163
SEQUENCE:0
LAST-MODIFIED:20190619T154029Z
SUMMARY:Vortrag Nino Zchomelidse
DESCRIPTION:Vortrag Nino Zchomelidse: Rahmenkommentare zu spätmittela
 lterlichen Kultbildern
LOCATION:Zentralinstitut für Kunstgeschichte\, Vortragsraum 242\, II. OG\, Katharina-von-Bora-Straße 10\, 80333 München
PRIORITY:3
TRANSP:0
END:VEVENT
END:VCALENDAR
