BEGIN:VCALENDAR
PRODID:-//AT Content Types//AT Event//EN
VERSION:2.0
METHOD:PUBLISH
BEGIN:VEVENT
DTSTAMP:20260421T190107Z
CREATED:20130409T101550Z
UID:ATEvent-71b84b2f0bb34c8b81f7e8661b13d9d6
LAST-MODIFIED:20190619T154407Z
SUMMARY:Workshop Fuhrmeister\, Klingen\, Peters
DTSTART:20130424T143000Z
DTEND:20130424T163000Z
DESCRIPTION:Christian Fuhrmeister\, Stephan Klingen\, Ralf Peters (ZI\
 , München): Farbdiaarchiv in Kaliningrad
LOCATION:Zentralinstitut für Kunstgeschichte\, Photothek\, I. OG\, Raum 137\, Katharina-von-Bora-Straße 10\, 80333 München
CATEGORIES:2013
CLASS:PUBLIC
END:VEVENT
END:VCALENDAR
