BEGIN:VCALENDAR
PRODID:-//AT Content Types//AT Event//EN
VERSION:2.0
METHOD:PUBLISH
BEGIN:VEVENT
DTSTAMP:20260422T034855Z
CREATED:20130627T112228Z
UID:ATEvent-0d3c3fa6e36d44fba33168deb103e755
LAST-MODIFIED:20190619T154608Z
SUMMARY:Workshop Hendrikje Hüneke
DTSTART:20130724T150000Z
DTEND:20130724T163000Z
DESCRIPTION:Workshop Hendrikje Hüneke: Kommunistische Künstler in de
 r SBZ/DDR zwischen politischer und künstlerischer Überzeugung
LOCATION:Zentralinstitut für Kunstgeschichte\, Photothek\, I. OG\, Raum 137\, Katharina-von-Bora-Straße 10\, 80333 München
CATEGORIES:2013
CLASS:PUBLIC
END:VEVENT
END:VCALENDAR
