BEGIN:VCALENDAR
PRODID:-//AT Content Types//AT Event//EN
VERSION:2.0
METHOD:PUBLISH
BEGIN:VEVENT
DTSTAMP:20260420T101200Z
CREATED:20130725T100003Z
UID:ATEvent-39601a26ec2a4f949e542b00bbb5d673
LAST-MODIFIED:20190619T154821Z
SUMMARY:Workshop Sebastian Schmidt
DTSTART:20131024T150000Z
DTEND:20131024T163000Z
DESCRIPTION:Sebastian Schmidt: Grenzen der Interpretation? Altdeutsche
  Porträts zwischen Dokumentcharakter und Fiktionspotential
LOCATION:Zentralinstitut für Kunstgeschichte\, Photothek\, I. OG\, Raum 137\, Katharina-von-Bora-Straße 10\, 80333 München
CATEGORIES:2013
CLASS:PUBLIC
END:VEVENT
END:VCALENDAR
