BEGIN:VCALENDAR
PRODID:-//AT Content Types//AT Event//EN
VERSION:2.0
METHOD:PUBLISH
BEGIN:VEVENT
DTSTAMP:20260425T180001Z
CREATED:20140221T110417Z
UID:ATEvent-1755807e5f404c93b2c91555977c38fb
LAST-MODIFIED:20260209T124326Z
SUMMARY:Ausstellung Stefan Moses – Künstler machen Masken
DTSTART:20140317T090000Z
DTEND:20140411T180000Z
DESCRIPTION:Vom 17. März bis zum 11. April 2014 zeigt das ZI die Auss
 tellung Stefan Moses – Künstler machen Masken mit Fotografien aus d
 er Schenkung des Künstlers.
LOCATION:Zentralinstitut für Kunstgeschichte\, nördlicher Lichthof\, I. OG\, Katharina-von-Bora-Straße 10\, 80333 München
CATEGORIES:2014, Ausstellung, Studienzentrum zur Moderne – Bibliothek Herzog Franz von Bayern am Zentralinstitut für Kunstgeschichte
CLASS:PUBLIC
END:VEVENT
END:VCALENDAR
