BEGIN:VCALENDAR
PRODID:-//AT Content Types//AT Event//EN
VERSION:2.0
METHOD:PUBLISH
BEGIN:VEVENT
DTSTAMP:20260422T100643Z
CREATED:20140722T103347Z
UID:ATEvent-5909ba25228a4675b95bc4e807d1f395
LAST-MODIFIED:20190619T153927Z
SUMMARY:Bücherflohmarkt
DTSTART:20141203T090000Z
DTEND:20141203T170000Z
DESCRIPTION:Bücherflohmarkt für aktuelle und antiquarische kunsthist
 orische Fachliteratur
LOCATION:Zentralinstitut für Kunstgeschichte\, nördlicher Lichthof\, I. OG\, Katharina-von-Bora-Straße 10\, 80333 München
CATEGORIES:2014
CLASS:PUBLIC
END:VEVENT
END:VCALENDAR
