BEGIN:VCALENDAR
PRODID:-//AT Content Types//AT Event//EN
VERSION:2.0
METHOD:PUBLISH
BEGIN:VEVENT
DTSTAMP:20260422T034952Z
CREATED:20140603T103256Z
UID:ATEvent-00aec0b6bce9412bbf4d8d9b7a9580cd
LAST-MODIFIED:20190619T153626Z
SUMMARY:Führung: NSDAP-Parteizentrum
DTSTART:20140721T160000Z
DTEND:20140721T180000Z
DESCRIPTION:Öffentliche Führung zur Geschichte des NSDAP-Parteizentr
 ums
LOCATION:Zentralinstitut für Kunstgeschichte\, Katharina-von-Bora-Straße 10\, 80333 München\, Eingangshalle
CATEGORIES:2014
CLASS:PUBLIC
END:VEVENT
END:VCALENDAR
