BEGIN:VCALENDAR
PRODID:-//AT Content Types//AT Event//EN
VERSION:1.0
BEGIN:VEVENT
DTSTART:20140627T140000Z
DTEND:20140627T170000Z
DCREATED:20140303T110250Z
UID:ATEvent-ce6f725fa7134497ac805850c84d55ca
SEQUENCE:0
LAST-MODIFIED:20241021T073902Z
SUMMARY:Round-Table Positionen der Kunstgeschichte: Die Zukunft der Architekturgeschichte
DESCRIPTION:Positionen der Kunstgeschichte: Die Zukunft der Architektu
 rgeschichte
LOCATION:Zentralinstitut für Kunstgeschichte\, Vortragsraum 242\, II. OG\, Katharina-von-Bora-Straße 10\, 80333 München
PRIORITY:3
TRANSP:0
END:VEVENT
END:VCALENDAR
