BEGIN:VCALENDAR
PRODID:-//AT Content Types//AT Event//EN
VERSION:2.0
METHOD:PUBLISH
BEGIN:VEVENT
DTSTAMP:20260422T145740Z
CREATED:20140217T141948Z
UID:ATEvent-af5b6e42dca64e54a3f362fcc6ed05a1
LAST-MODIFIED:20190619T153422Z
SUMMARY:Verleihung Wolfgang-Ratjen-Preis
DTSTART:20140514T161500Z
DTEND:20140514T163000Z
DESCRIPTION:Vergabe des Wolfgang-Ratjen-Preises 2014 für herausragend
 e Forschungsarbeiten zur Geschichte der graphischen Künste
LOCATION:Zentralinstitut für Kunstgeschichte\, Vortragsraum 242\, II. OG\, Katharina-von-Bora-Straße 10\, 80333 München
CATEGORIES:2014
CLASS:PUBLIC
END:VEVENT
END:VCALENDAR
