BEGIN:VCALENDAR
PRODID:-//AT Content Types//AT Event//EN
VERSION:2.0
METHOD:PUBLISH
BEGIN:VEVENT
DTSTAMP:20260420T101550Z
CREATED:20140717T095627Z
UID:ATEvent-8f66f58a790e4512b24718cb3192bbaf
LAST-MODIFIED:20190619T153853Z
SUMMARY:Vortrag Eva Maria Froschauer
DTSTART:20141119T171500Z
DTEND:20141119T190000Z
DESCRIPTION:Vortrag Eva Maria Froschauer\, Cottbus: „Im Zwiegespräc
 h mit den Gegenständen“. Form und Gebrauch von Architektensammlunge
 n der Nachkriegsmoderne als Werkzeug des Entwerfens
LOCATION:Zentralinstitut für Kunstgeschichte\, Vortragsraum 242\, II. OG\, Katharina-von-Bora-Straße 10\, 80333 München
CATEGORIES:2014
CLASS:PUBLIC
END:VEVENT
END:VCALENDAR
