BEGIN:VCALENDAR
PRODID:-//AT Content Types//AT Event//EN
VERSION:1.0
BEGIN:VEVENT
DTSTART:20140122T171500Z
DTEND:20140122T191500Z
DCREATED:20131209T085133Z
UID:ATEvent-83b6dbe22dea4eaab6ac1a6f32c09111
SEQUENCE:0
LAST-MODIFIED:20190619T150429Z
SUMMARY:Vortrag Francesco Caglioti
DESCRIPTION:Vortrag Francesco Caglioti: Die Wiederentdeckung von Miche
 langelos „San Giovannino“
LOCATION:Zentralinstitut für Kunstgeschichte\, Vortragsraum 242\, II. OG\, Katharina-von-Bora-Straße 10\, 80333 München
PRIORITY:3
TRANSP:0
END:VEVENT
END:VCALENDAR
