BEGIN:VCALENDAR
PRODID:-//AT Content Types//AT Event//EN
VERSION:2.0
METHOD:PUBLISH
BEGIN:VEVENT
DTSTAMP:20260420T101503Z
CREATED:20140722T102806Z
UID:ATEvent-78de3032c7da4ca5b26a9ff2502a340b
LAST-MODIFIED:20250326T100541Z
SUMMARY:Vortrag Irene Nierhaus
DTSTART:20141203T171500Z
DTEND:20141203T190000Z
DESCRIPTION:Vortrag Irene Nierhaus: Wohnkritik. Zu Konfliktzonen des S
 achlichen Wohnens als neuer Lebensform
LOCATION:Zentralinstitut für Kunstgeschichte\, Vortragsraum 242\, II. OG\, Katharina-von-Bora-Straße 10\, 80333 München
CATEGORIES:2014, Reihe Mies van der Rohe
CLASS:PUBLIC
END:VEVENT
END:VCALENDAR
