BEGIN:VCALENDAR
PRODID:-//AT Content Types//AT Event//EN
VERSION:2.0
METHOD:PUBLISH
BEGIN:VEVENT
DTSTAMP:20260425T173053Z
CREATED:20131209T085951Z
UID:ATEvent-939b3fd7353d4340a4d42e23338bf0f4
LAST-MODIFIED:20190619T150440Z
SUMMARY:Vortrag Nina Zimmer
DTSTART:20140129T171500Z
DTEND:20140129T191500Z
DESCRIPTION:Vortrag Nina Zimmer: „Das Komische in der Form des Wunde
 rbaren“ – James Ensors Japonismus des Grotesken
LOCATION:Zentralinstitut für Kunstgeschichte\, Vortragsraum 242\, II. OG\, Katharina-von-Bora-Straße 10\, 80333 München
CATEGORIES:2014
CLASS:PUBLIC
END:VEVENT
END:VCALENDAR
