BEGIN:VCALENDAR
PRODID:-//AT Content Types//AT Event//EN
VERSION:1.0
BEGIN:VEVENT
DTSTART:20141112T171500Z
DTEND:20141112T190000Z
DCREATED:20140717T095141Z
UID:ATEvent-1db76609d60b49769700324bf4fd6d6d
SEQUENCE:0
LAST-MODIFIED:20250326T100716Z
SUMMARY:Vortrag Richard Bauer
DESCRIPTION:Vortrag Richard Bauer\, München: Ein Park als Manifestati
 on „grüner“ Reformpolitik. Zur Entstehungsgeschichte des Englisch
 en Gartens
LOCATION:Zentralinstitut für Kunstgeschichte\, Vortragsraum 242\, II. OG\, Katharina-von-Bora-Straße 10\, 80333 München
PRIORITY:3
TRANSP:0
END:VEVENT
END:VCALENDAR
