BEGIN:VCALENDAR
PRODID:-//AT Content Types//AT Event//EN
VERSION:2.0
METHOD:PUBLISH
BEGIN:VEVENT
DTSTAMP:20260421T100114Z
CREATED:20140819T083219Z
UID:ATEvent-6c49488adc51475fb7521a1b461b953d
LAST-MODIFIED:20190619T153648Z
SUMMARY:Vortrag Stefanie Walker
DTSTART:20141001T161500Z
DTEND:20141001T180000Z
DESCRIPTION:Vortrag Stefanie Walker\, Washington\, DC: Die zwölf „K
 aiser-Tazze“ und die Silbersammlung von Kardinal Pietro Aldobrandini
 
LOCATION:Zentralinstitut für Kunstgeschichte\, Vortragsraum 242\, II. OG\, Katharina-von-Bora-Straße 10\, 80333 München
CATEGORIES:2014
CLASS:PUBLIC
END:VEVENT
END:VCALENDAR
