BEGIN:VCALENDAR
PRODID:-//AT Content Types//AT Event//EN
VERSION:1.0
BEGIN:VEVENT
DTSTART:20141117T160000Z
DTEND:20141117T180000Z
DCREATED:20141001T113021Z
UID:ATEvent-cb15a3be117a470d861f99c789441dd3
SEQUENCE:0
LAST-MODIFIED:20190619T153847Z
SUMMARY:Workshop Anke Blümm
DESCRIPTION:Workshop Anke Blümm: „Hast Du mit Mies oder Hilberseime
 r Verbindung?“ - Bauhaus-Architekten im Nationalsozialismus
LOCATION:Zentralinstitut für Kunstgeschichte\, Photothek\, I. OG\, Raum 137\, Katharina-von-Bora-Straße 10\, 80333 München
PRIORITY:3
TRANSP:0
END:VEVENT
END:VCALENDAR
