BEGIN:VCALENDAR
PRODID:-//AT Content Types//AT Event//EN
VERSION:1.0
BEGIN:VEVENT
DTSTART:20141120T160000Z
DTEND:20141120T173000Z
DCREATED:20140902T132656Z
UID:ATEvent-8b051d615fac46c0b154b197754a5d7d
SEQUENCE:0
LAST-MODIFIED:20260209T124159Z
SUMMARY:Workshop Nicholas Ballet
DESCRIPTION:Workshop Nicholas Ballet: Industrial Music and Fanzines. T
 he rise of an underground press
LOCATION:Zentralinstitut für Kunstgeschichte\, Photothek\, I. OG\, Raum 137\, Katharina-von-Bora-Straße 10\, 80333 München
PRIORITY:3
TRANSP:0
END:VEVENT
END:VCALENDAR
