BEGIN:VCALENDAR
PRODID:-//AT Content Types//AT Event//EN
VERSION:2.0
METHOD:PUBLISH
BEGIN:VEVENT
DTSTAMP:20260420T200918Z
CREATED:20140224T160122Z
UID:ATEvent-5d698e37fe104ebabe2ed2d6a1c6c610
LAST-MODIFIED:20190619T150547Z
SUMMARY:Workshop Oliver Sukrow
DTSTART:20140428T150000Z
DTEND:20140428T170000Z
DESCRIPTION:Workshop Oliver Sukrow: Subversive Landschaften. Wolfgang 
 Mattheuers Landschaftsgemälde und die romantische Tradition in der bi
 ldenden Kunst der DDR
LOCATION:Zentralinstitut für Kunstgeschichte\, Photothek\, I. OG\, Raum 137\, Katharina-von-Bora-Straße 10\, 80333 München
CATEGORIES:2014
CLASS:PUBLIC
END:VEVENT
END:VCALENDAR
