BEGIN:VCALENDAR
PRODID:-//AT Content Types//AT Event//EN
VERSION:2.0
METHOD:PUBLISH
BEGIN:VEVENT
DTSTAMP:20260420T050312Z
CREATED:20150218T104418Z
UID:ATEvent-1bfe2a805b704a6e84a18f5f3c685ff7
LAST-MODIFIED:20241016T122034Z
SUMMARY:Ausstellung // PUNKT\, PUNKT\, KOMMA\, STRICH. Zeichnen zwischen Kunst und Wissenschaft 1525-1925
DTSTART:20150428T160000Z
DTEND:20150428T180000Z
DESCRIPTION:Eine Ausstellung der Universitätsbibliothek Heidelberg in
  Kooperation mit dem Zentralinstitut für Kunstgeschichte und der LMU 
 München\, 29.04.2015 - 14.02.2016
LOCATION:Universitätsbibliothek Heidelberg
CATEGORIES:Ausstellung, 2015
CLASS:PUBLIC
END:VEVENT
END:VCALENDAR
