BEGIN:VCALENDAR
PRODID:-//AT Content Types//AT Event//EN
VERSION:2.0
METHOD:PUBLISH
BEGIN:VEVENT
DTSTAMP:20260423T142306Z
CREATED:20150804T083348Z
UID:ATEvent-1e86c9065e9e407f8667e7bbcc32aaf6
LAST-MODIFIED:20190619T145856Z
SUMMARY:Current Research. Lektüreseminar am ZI mit Ralph Ubl und Wolfram Pichler
DTSTART:20151028T131500Z
DTEND:20151028T144500Z
DESCRIPTION:Current Research. Lektüreseminar am ZI mit Ralph Ubl und 
 Wolfram Pichler: Bildtheorien zur Einführung
LOCATION:Zentralinstitut für Kunstgeschichte\, Lesesaal 2\, I. OG\, Katharina-von-Bora-Straße 10\, 80333 München
CATEGORIES:2015
CLASS:PUBLIC
END:VEVENT
END:VCALENDAR
