BEGIN:VCALENDAR
PRODID:-//AT Content Types//AT Event//EN
VERSION:2.0
METHOD:PUBLISH
BEGIN:VEVENT
DTSTAMP:20260420T034544Z
CREATED:20141127T150353Z
UID:ATEvent-f3a8f3e8db2d47e8a2f7729d3d488457
LAST-MODIFIED:20190619T144414Z
SUMMARY:Vortrag Klaus Endemann
DTSTART:20150218T171500Z
DTEND:20150218T191500Z
DESCRIPTION:Vortrag Klaus Endemann: Zur Architektur um 800 – kritisc
 he Anmerkungen zu Thesen der aktuellen Forschung
LOCATION:Zentralinstitut für Kunstgeschichte\, Vortragsraum 242\, II. OG\, Katharina-von-Bora-Straße 10\, 80333 München
CATEGORIES:2015
CLASS:PUBLIC
END:VEVENT
END:VCALENDAR
