BEGIN:VCALENDAR
PRODID:-//AT Content Types//AT Event//EN
VERSION:2.0
METHOD:PUBLISH
BEGIN:VEVENT
DTSTAMP:20260422T175343Z
CREATED:20150918T075641Z
UID:ATEvent-59aa730be09049a388950d3087f5f78b
LAST-MODIFIED:20250326T100333Z
SUMMARY:Vortrag Monika Wagner
DTSTART:20151214T170000Z
DTEND:20151214T190000Z
DESCRIPTION:Vortrag Monika Wagner: Korngarben: Ähren des Reichtums un
 d Ähren des Mangels
LOCATION:Hauptgebäude der LMU\, Geschwister-Scholl-Platz 1\, Hörsaal A140
CATEGORIES:2015, Reihe Objekte als Attribute
CLASS:PUBLIC
END:VEVENT
END:VCALENDAR
