BEGIN:VCALENDAR
PRODID:-//AT Content Types//AT Event//EN
VERSION:1.0
BEGIN:VEVENT
DTSTART:20150128T171500Z
DTEND:20150128T191500Z
DCREATED:20141127T134659Z
UID:ATEvent-584e4d197e4f46089ac952977eab20e3
SEQUENCE:0
LAST-MODIFIED:20190619T144350Z
SUMMARY:Vortrag Jürgen Müller
DESCRIPTION:Vortrag Jürgen Müller: Der entfesselte Amor – Überleg
 ungen zu Caravaggios „Junge\, von einer Eidechse gebissen“
LOCATION:Zentralinstitut für Kunstgeschichte\, Vortragsraum 242\, II. OG\, Katharina-von-Bora-Straße 10\, 80333 München
PRIORITY:3
TRANSP:0
END:VEVENT
END:VCALENDAR
