BEGIN:VCALENDAR
PRODID:-//AT Content Types//AT Event//EN
VERSION:1.0
BEGIN:VEVENT
DTSTART:20150617T161500Z
DTEND:20150617T180000Z
DCREATED:20150210T150452Z
UID:ATEvent-f4e17e44217a44509886b1b496d23886
SEQUENCE:0
LAST-MODIFIED:20190619T144551Z
SUMMARY:Vortrag Sonja Hildebrand
DESCRIPTION:Vortrag Sonja Hildebrand: Von der Freiheit des Denkens. Go
 ttfried Sempers Theorie des Schmucks und des „Formell-Schönen“
LOCATION:Zentralinstitut für Kunstgeschichte\, Vortragsraum 242\, II. OG\, Katharina-von-Bora-Straße 10\, 80333 München
PRIORITY:3
TRANSP:0
END:VEVENT
END:VCALENDAR
