BEGIN:VCALENDAR
PRODID:-//AT Content Types//AT Event//EN
VERSION:1.0
BEGIN:VEVENT
DTSTART:20150211T171500Z
DTEND:20150211T191500Z
DCREATED:20141127T143304Z
UID:ATEvent-a19072d124744aab9c72f1c9f85fb04b
SEQUENCE:0
LAST-MODIFIED:20250326T100601Z
SUMMARY:Vortrag Paul Weber
DESCRIPTION:Vortrag Paul Weber: Mies van der Rohes Entwicklung der frÃ
 ¼hen 20er Jahre aus der Perspektive einer Theorie architektonischer Um
 wandlung
LOCATION:Zentralinstitut fÃ¼r Kunstgeschichte\, Vortragsraum 242\, II. OG\, Katharina-von-Bora-StraÃŸe 10\, 80333 MÃ¼nchen
PRIORITY:3
TRANSP:0
END:VEVENT
END:VCALENDAR
