BEGIN:VCALENDAR
PRODID:-//AT Content Types//AT Event//EN
VERSION:2.0
METHOD:PUBLISH
BEGIN:VEVENT
DTSTAMP:20260419T124021Z
CREATED:20150918T075257Z
UID:ATEvent-ad2e1b0f3a9344a1a5d6138d6b34a2f4
LAST-MODIFIED:20250326T100315Z
SUMMARY:Vortrag Werner Busch
DTSTART:20151207T170000Z
DTEND:20151207T190000Z
DESCRIPTION:Vortrag Werner Busch: L’objet parlant. Der Verlust des A
 ttributs um 1800 als Voraussetzung für die Allegorisierung der Gegens
 tände selbst
LOCATION:Hauptgebäude der LMU\, Geschwister-Scholl-Platz 1\, Hörsaal A140
CATEGORIES:2015, Reihe Objekte als Attribute
CLASS:PUBLIC
END:VEVENT
END:VCALENDAR
