BEGIN:VCALENDAR
PRODID:-//AT Content Types//AT Event//EN
VERSION:2.0
METHOD:PUBLISH
BEGIN:VEVENT
DTSTAMP:20260423T114435Z
CREATED:20150728T084829Z
UID:ATEvent-2f84ac6fdaaf461eaf5e1942d65a7976
LAST-MODIFIED:20190619T145813Z
SUMMARY:Vortrag Yvonne Schmuhl
DTSTART:20151007T161500Z
DTEND:20151007T180000Z
DESCRIPTION:Vortrag Yvonne Schmuhl: „Ruhm haben nur die Künstler er
 langt\, die auf Tafeln malten.“ – Die enkaustische Malerei der Ant
 ike
LOCATION:Zentralinstitut für Kunstgeschichte\, Vortragsraum 242\, II. OG\, Katharina-von-Bora-Straße 10\, 80333 München
CATEGORIES:2015
CLASS:PUBLIC
END:VEVENT
END:VCALENDAR
