BEGIN:VCALENDAR
PRODID:-//AT Content Types//AT Event//EN
VERSION:1.0
BEGIN:VEVENT
DTSTART:20150505T150000Z
DTEND:20150505T163000Z
DCREATED:20150407T094400Z
UID:ATEvent-385a50c4c0824e21a0ccfd677c96fa38
SEQUENCE:0
LAST-MODIFIED:20190619T144454Z
SUMMARY:Workshop Jacek Purchla
DESCRIPTION:Workshop J. Purchla: "Ungewolltes" Erbe – die polnische 
 Erfahrung
LOCATION:Zentralinstitut für Kunstgeschichte\, Photothek\, I. OG\, Raum 137\, Katharina-von-Bora-Straße 10\, 80333 München
PRIORITY:3
TRANSP:0
END:VEVENT
END:VCALENDAR
