BEGIN:VCALENDAR
PRODID:-//AT Content Types//AT Event//EN
VERSION:2.0
METHOD:PUBLISH
BEGIN:VEVENT
DTSTAMP:20260423T053717Z
CREATED:20150511T083947Z
UID:ATEvent-3cbb17a85d754d7aa133c4a8daaa0163
LAST-MODIFIED:20190619T144518Z
SUMMARY:Workshop Rachel Danford
DTSTART:20150521T123000Z
DTEND:20150521T134500Z
DESCRIPTION:Workshop R. Danford: Color and Relief: The Boundaries betw
 een Painting and Sculpture in Eleventh-Century Müstair
LOCATION:Zentralinstitut für Kunstgeschichte\, Vortragssaal Raum 242\, II. OG\, Katharina-von-Bora-Straße 10\, 80333 München
CATEGORIES:2015
CLASS:PUBLIC
END:VEVENT
END:VCALENDAR
