BEGIN:VCALENDAR
PRODID:-//AT Content Types//AT Event//EN
VERSION:2.0
METHOD:PUBLISH
BEGIN:VEVENT
DTSTAMP:20260423T142040Z
CREATED:20151023T082914Z
UID:ATEvent-5ca73d7f46e24731b050bb3dd36d65bb
LAST-MODIFIED:20190619T150034Z
SUMMARY:Workshop Svea Bräunert
DTSTART:20151119T133000Z
DTEND:20151119T143000Z
DESCRIPTION:Workshop S. Bräunert: Sichtverhältnisse: Über Drohnen\,
  Krieg und Kunst
LOCATION:Zentralinstitut für Kunstgeschichte\, Vortragssaal Raum 242\, II. OG\, Katharina-von-Bora-Straße 10\, 80333 München
CATEGORIES:2015
CLASS:PUBLIC
END:VEVENT
END:VCALENDAR
