BEGIN:VCALENDAR
PRODID:-//AT Content Types//AT Event//EN
VERSION:2.0
METHOD:PUBLISH
BEGIN:VEVENT
DTSTAMP:20260423T021937Z
CREATED:20160504T083549Z
UID:ATEvent-cf9560e1c7724644a785de5deeefa868
LAST-MODIFIED:20241016T111831Z
SUMMARY:Ausstellung // Galerie Helbing - Auktionen für die Welt
DTSTART:20160427T080000Z
DTEND:20160824T180000Z
DESCRIPTION:Eine Ausstellung anlässlich der Schenkung von annotierten
  Katalogen des Münchner Auktions­hauses von Hugo Helbing an das Zent
 ralinstitut für Kunstgeschichte
LOCATION:Zentralinstitut für Kunstgeschichte\, Katharina-von-Bora-Str. 10\, 80333 München\, nördlicher Lichthof\, I. OG
CATEGORIES:2016, Ausstellung
CLASS:PUBLIC
END:VEVENT
END:VCALENDAR
