BEGIN:VCALENDAR
PRODID:-//AT Content Types//AT Event//EN
VERSION:2.0
METHOD:PUBLISH
BEGIN:VEVENT
DTSTAMP:20260423T073914Z
CREATED:20160411T082300Z
UID:ATEvent-4ef0afd9c0f44694ae4715590d872113
LAST-MODIFIED:20260209T124017Z
SUMMARY:Buchpräsentation: Gedruckt und erblättert. Das Fotobuch als Medium ästhetischer Artikulation seit den 1940er Jahren
DTSTART:20160419T161500Z
DTEND:20160419T173000Z
DESCRIPTION:Gedruckt und erblättert. Das Fotobuch als Medium ästheti
 scher Artikulation seit den 1940er Jahren / hrsg. von Burcu Dogramaci\
 , Désirée Düdder\, Stefanie Dufhues\, Maria Schindelegger & Anna Vo
 lz. Köln: Verlag Walther König\, 2015 (Schriftenreihe des Studienzen
 trums zur Moderne – Bibliothek Herzog Franz von Bayern am Zentralins
 titut für Kunstgeschichte\, 3) - 280 Seiten mit 34 farbigen Abbildung
 en
LOCATION:Zentralinstitut für Kunstgeschichte\, Vortragssaal 242\, II. OG\, Katharina-von-Bora-Straße 10\, 80333 München
CATEGORIES:Studienzentrum zur Moderne – Bibliothek Herzog Franz von Bayern am Zentralinstitut für Kunstgeschichte, 2016
CLASS:PUBLIC
END:VEVENT
END:VCALENDAR
