BEGIN:VCALENDAR
PRODID:-//AT Content Types//AT Event//EN
VERSION:1.0
BEGIN:VEVENT
DTSTART:20160120T130000Z
DTEND:20160120T150000Z
DCREATED:20160113T085043Z
UID:ATEvent-b12d2029999241f3b3cffae7eeeb659f
SEQUENCE:0
LAST-MODIFIED:20190619T113708Z
SUMMARY:Current Research. Lektüreseminar am ZI mit Johannes Grave
DESCRIPTION:Current Research. Lektüreseminar am ZI mit Johannes Grave
 : Bild - Blick - Zeit. Die rezeptionsästhetische Temporalität des Bi
 ldes
LOCATION:Zentralinstitut für Kunstgeschichte\, Lesesaal 2\, I. OG\, Katharina-von-Bora-Straße 10\, 80333 München
PRIORITY:3
TRANSP:0
END:VEVENT
END:VCALENDAR
