BEGIN:VCALENDAR
PRODID:-//AT Content Types//AT Event//EN
VERSION:2.0
METHOD:PUBLISH
BEGIN:VEVENT
DTSTAMP:20260421T081330Z
CREATED:20160719T125147Z
UID:ATEvent-ae72f77bd58c43c491fe2712c02018c6
LAST-MODIFIED:20190523T082044Z
SUMMARY:Current Research. Lektüreseminar am ZI mit Maximilian Schich
DTSTART:20160727T121500Z
DTEND:20160727T134500Z
DESCRIPTION:Current Research. Lektüreseminar am ZI mit Maximilian Sch
 ich: Kunst- als Naturwissenschaft!
LOCATION:Zentralinstitut für Kunstgeschichte\, Studienzentrum zur Moderne\, Katharina-von-Bora-Straße 10\, 80333 München
CATEGORIES:2016
CLASS:PUBLIC
END:VEVENT
END:VCALENDAR
