BEGIN:VCALENDAR
PRODID:-//AT Content Types//AT Event//EN
VERSION:1.0
BEGIN:VEVENT
DTSTART:20161118T171500Z
DTEND:20161118T183000Z
DCREATED:20160818T093236Z
UID:ATEvent-39101b56dc8e4c9da136180f5606770d
SEQUENCE:0
LAST-MODIFIED:20190523T081805Z
SUMMARY:Podiumsdiskussion: Gegenseitige Wahrnehmung? Kunst(geschichte)\, Architektur und Denkmalpflege nach 1945
DESCRIPTION:Gegenseitige Wahrnehmung? Kunst(geschichte)\, Architektur 
 und Denkmalpflege nach 1945
LOCATION:Zentralinstitut für Kunstgeschichte\, Vortragsraum 242\, II. OG\, Katharina-von-Bora-Straße 10\, 80333 München
PRIORITY:3
TRANSP:0
END:VEVENT
END:VCALENDAR
