BEGIN:VCALENDAR
PRODID:-//AT Content Types//AT Event//EN
VERSION:1.0
BEGIN:VEVENT
DTSTART:20160309T130000Z
DTEND:20160309T190000Z
DCREATED:20151217T105359Z
UID:ATEvent-92fd449cfaf04437963b0c779c23402a
SEQUENCE:0
LAST-MODIFIED:20241127T090336Z
SUMMARY:Kolloquium "Pflanzenbilder. Visualisierung der Natur in der Frühen Neuzeit"
DESCRIPTION:Kolloquium "Pflanzenbilder. Visualisierung der Natur in de
 r Frühen Neuzeit"
LOCATION:Zentralinstitut für Kunstgeschichte\, Vortragssaal Raum 242\, II. OG\, Katharina-von-Bora-Straße 10\, 80333 München
PRIORITY:3
TRANSP:0
END:VEVENT
END:VCALENDAR
